BEGIN:VCALENDAR
VERSION:2.0
PRODID:-//A P Krishna Prasad - ECPv6.13.2.1//NONSGML v1.0//EN
CALSCALE:GREGORIAN
METHOD:PUBLISH
X-ORIGINAL-URL:https://www.fluteprasad.com
X-WR-CALDESC:Events for A P Krishna Prasad
REFRESH-INTERVAL;VALUE=DURATION:PT1H
X-Robots-Tag:noindex
X-PUBLISHED-TTL:PT1H
BEGIN:VTIMEZONE
TZID:UTC
BEGIN:STANDARD
TZOFFSETFROM:+0000
TZOFFSETTO:+0000
TZNAME:UTC
DTSTART:20210101T000000
END:STANDARD
END:VTIMEZONE
BEGIN:VEVENT
DTSTART;VALUE=DATE:20240615
DTEND;VALUE=DATE:20240805
DTSTAMP:20260423T205423
CREATED:20240603T100049Z
LAST-MODIFIED:20240612T101233Z
UID:1054-1718409600-1722815999@www.fluteprasad.com
SUMMARY:USA Tour 2024
DESCRIPTION:
URL:https://www.fluteprasad.com/event/usa-tour-2024/
CATEGORIES:Tours
ATTACH;FMTTYPE=image/png:https://www.fluteprasad.com/wp-content/uploads/2024/06/2024.png
END:VEVENT
BEGIN:VEVENT
DTSTART;VALUE=DATE:20210601
DTEND;VALUE=DATE:20211101
DTSTAMP:20260423T205423
CREATED:20200803T063004Z
LAST-MODIFIED:20200813T043942Z
UID:988-1622505600-1635724799@www.fluteprasad.com
SUMMARY:US Tour 2021
DESCRIPTION:AP Krishnaprasad & Team will be touring United States from June – October 2021. Details will be announced later.
URL:https://www.fluteprasad.com/event/us-tour-2021/
CATEGORIES:Tours
ATTACH;FMTTYPE=image/jpeg:https://www.fluteprasad.com/wp-content/uploads/2020/05/05.jpg
END:VEVENT
END:VCALENDAR